Workbook

Sheet Titullapa
A13: SIA "Atkritumu apsaimniekošanas Dienvidlatgales starppašvaldību organizācija"
A14: VRN 41503029988
A16: 2022.gada pārskats II cet.
A43: Daugavpils

Sheet Saturs
A1: SATURS
I4: Lpp.
A6: Vispārīgā informācija par sabiedrību | I6: 3
A8: Finanšu pārskats
B10: Bilance | I10: 4
B12: Peļņas vai zaudējumu aprēķins | I12: 6
B14: Naudas plūsmas pārskats | I14: 7
B16: Pašu kapitāla izmaiņu pārskats | I16: 8
B18: Finanšu pārskata pielikums | I18: 9
A20: Vadības ziņojums | I20: 21
A22: Neatkarīgu revidentu ziņojums | I22: 23

Sheet Info
A1: VISPĀRĪGĀ INFORMĀCIJA PAR SABIEDRĪBU | K1: Gada pārskatu un konsolidēto
K2: gada pārskatu likums
A4: Sabiedrības nosaukums | B4: "Atkritumu apsaimniekošanas Dienvidlatgales starppašvaldību organizācija" AADSO | I4: Pārskata | K4: 94.panta 2.daļa 1.punkts
H5: Saīsināti | I5: Gads | J5: 2017
A6: Sabiedrības veids | B6: Sabiedrība ar ierobežotu atbildību | H6: SIA | I6: Vieta | J6: xxxx, xxxx novads | K6: 94.panta 2.daļa 1.punkts
I7: Datums | J7: 2018.gada xx.datums
A8: Juridiskā adrese | B8: "Cinīši", emenes pagasts, Augšdaugavas novads | I8: Valūta | J8: EUR | K8: 94.panta 2.daļa 1.punkts
A10: Reģistrācijas numurs | B10: 41503029988 | K10: 94.panta 2.daļa 1.punkts
A12: Valde | B12: Aivars Pudāns - valdes loceklis | K12: 94.panta 2.daļa 4.punkts
B13: ar tiesībām pārstāvēt sabiedrību atsevišķi
A16: Grāmatvedis | B16: Irēna Alihimoviča | K16: 95.panta 5.daļa
A19: Pārskata periods | B19: no | C19: 44562 | D19: līdz | E19: 31.06.2022
A21: Revidents | B21: SIA "AUDIKONSULS"
B22: Reģ.nr. 50003930971
B23: LZRA licence Nr.149
B24: Juridiskā adrese: D.Brantkalna iela 3-102, Rīga, LV-1082
B26: Zvērināta revidente Svetlana Ņefjodova
B27: LZRA sertifikāts Nr.177

Sheet Aktīvs
A1: BILANCE | F1: Rindas kods VID EDS
A3: AKTĪVS | D3: =Info!$E$19 -> 31.06.2022 | E3: =Info!$C$19-1 -> 44561
D4: =Info!$J$8 -> EUR | E4: =Info!$J$8 -> EUR
A5: ILGTERMIŅA IEGULDĪJUMI | F5: 10
A6: I | B6: Nemateriālie ieguldījumi | F6: 20
B7: Koncesijas, patenti, licences, preču zīmes un tamlīdzīgas tiesības | D7: 85 | E7: 85 | F7: 40
B8: Nemateriālie ieguldījumi kopā | D8: =SUM(D7:D7) -> 85 | E8: =SUM(E7:E7) -> 85 | F8: 80
A10: II | B10: Pamatlīdzekļi | F10: 90
A11: 1. | B11: Nekustamie īpašumi: | D11: =ROUND(D12+D13,0) -> 1211391 | E11: =ROUND(E12+E13,0) -> 1268809 | F11: 100
A12: a) | B12: zemesgabali, ēkas un inženierbūves | D12: =P_Aktīvs!H32 -> 1211391 | E12: 1268809 | F12: 110
A13: b) | B13: izgāztuves rekultivācijas | D13: 0 | E13: 0 | F13: 120
A14: 2. | B14: Tehnoloģiskās iekārtas un ierīces | D14: =P_Aktīvs!H53 -> 1754642 | E14: 1865993 | F14: 180
A15: 3. | B15: Pārējie pamatlīdzekļi un inventārs | D15: =P_Aktīvs!H71 -> 1679 | E15: 1224 | F15: 190
C16: Pamatlīdzekļi kopā: | D16: =D12+D14+D15 -> 2967712 | E16: =SUM(E11,E14,E15,) -> 3136026 | F16: 220
B18: ILGTERMIŅA IEGULDĪJUMI KOPĀ | D18: =D8+D16 -> 2967797 | E18: =E8+E16 -> 3136111 | F18: 340
A20: APGROZĀMIE LĪDZEKĻI | F20: 350
A21: I | B21: Krājumi | F21: 360
A22: 1 | B22: Izejvielas, pamatmateriāli un palīgmateriāli | D22: 135116 | E22: 121586 | F22: 370
A23: 2. | B23: Avansa maksājumi par krājumiem | D23: 0 | E23: 0 | F23: 400
B24: Krājumi kopā | D24: =SUM(D22:D23,) -> 135116 | E24: =SUM(E22:E23,) -> 121586 | F24: 450
A26: II | B26: Debitori | F26: 460
A27: 1 | B27: Pircēju un pasūtītāju parādi | D27: 680024 | E27: 536950 | F27: 470
A28: =#REF!+1 -> #REF! | B28: Citi debitori | D28: 1224 | E28: 1038 | F28: 500
A29: 6. | B29: Nākamo periodu izmaksas | D29: 5508 | E29: 38578 | F29: 530
B30: Debitori kopā | D30: =SUM(D27:D29) -> 686756 | E30: =SUM(E27:E29) -> 576566 | F30: 550
A31: IV | B31: Nauda | D31: 1661455 | E31: 1630296 | F31: 620
B32: APGROZĀMIE LĪDZEKĻI KOPĀ | D32: =D24+D30+D31 -> 2483327 | E32: =E24+E30+E31 -> 2328448 | F32: 630
B34: AKTĪVS KOPĀ | D34: =D32+D18 -> 5451124 | E34: =E32+E18 -> 5464559 | F34: 640
D35: =IF($D$34<>Pasīvs!$D$21,CONCATENATE("Aktīvs nesakrīt ar Pasīvu par ",$D$34-Pasīvs!$D$21," EUR"),"") | E35: =IF($E$34<>Pasīvs!$E$21,CONCATENATE("Aktīvs nesakrīt ar Pasīvu par ",$E$34-Pasīvs!$E$21," EUR"),"")
A37: =CONCATENATE("Pielikums no ",Saturs!$I$18,"."," līdz ",Saturs!$I$20-1,"."," lapai ir neatņemama šī finanšu pārskata sastāvdaļa.") -> Pielikums no 9. līdz 20. lapai ir neatņemama šī finanšu pārskata sastāvdaļa.
A39: Sabiedrības vārdā finanšu pārskatus apstiprina:
A41: =IF(Info!$B$12="","",Info!$B$12) -> Aivars Pudāns - valdes loceklis
C42: =IF($A$41="","","paraksts") -> paraksts

Sheet Pasīvs
A1: BILANCE | F1: Rindas kods VID EDS
A2: PASĪVS | D2: =Info!$E$19 -> 31.06.2022 | E2: =Info!$C$19-1 -> 44561
D3: =Info!$J$8 -> EUR | E3: =Info!$J$8 -> EUR
A4: PAŠU KAPITĀLS | F4: 650
A5: 1 | B5: Akciju vai daļu kapitāls (pamatkapitāls) | D5: 488480 | E5: 485900 | F5: 660
A6: 2 | B6: Pārējas rezerves | D6: 620 | E6: 400
A7: 3 | B7: Iepriekšējo gadu nesadalītā peļņa vai nesegtie zaudējumi | D7: =E7+E8-180739 -> 1691920 | E7: 1511182 | F7: 780
A8: 4 | B8: Pārskata gada peļņa vai zaudējumi | D8: ='PZA(IF)'!D17 -> -45896 | E8: 361477 | F8: 790
B9: PAŠU KAPITĀLS KOPĀ | D9: =SUM(D5,D6,D7,D8) -> 2135124 | E9: =E5+E6+E7+E8 -> 2358959 | F9: 800
A11: ILGTERMIŅA KREDITORI | F11: 860
A12: 1 | B12: Nākamo periodu ieņēmumi | D12: 2549597 | E12: 2549597 | F12: 990
B13: ILGTERMIŅA KREDITORI KOPĀ | D13: =SUM(D12:D12) -> 2549597 | E13: =SUM(E12:E12) -> 2549597 | F13: 1010
A14: ĪSTERMIŅA KREDITORI | F14: 1020
A15: 1. | B15: Parādi piegādātājiem un darbuzņēmējiem | D15: 124289 | E15: 37839 | F15: 1080
A16: 2. | B16: Nodokļi un valsts sociālās apdrošināšanas obligātās iemaksas | D16: 272761 | E16: 153609 | F16: 1120
A17: 3. | B17: Pārējie kreditori | D17: 41834 | E17: 37036 | F17: 1130
A18: 4. | B18: Nākamo periodu ieņēmumi | D18: 250055 | E18: 250055 | F18: 1140
A19: 5. | B19: Uzkrātās saistības | D19: 77464 | E19: 77464 | F19: 1160
B20: ĪSTERMIŅA KREDITORI KOPĀ | D20: =SUM(D15:D19) -> 766403 | E20: =SUM(E15:E19) -> 556003 | F20: 1180
B21: PASĪVS KOPĀ | D21: =D9+H17+D13+D20 -> 5451124 | E21: =E9+I17+E13+E20 -> 5464559 | F21: 1190
D22: =IF($D$21<>Aktīvs!$D$34,CONCATENATE("Pasīvs nesakrīt ar Aktīvu par ",$D$21-Aktīvs!$D$34," EUR"),"") | E22: =IF($E$21<>Aktīvs!$E$34,CONCATENATE("Aktīvs nesakrīt ar Pasīvu par ",$E$21-Aktīvs!$E$34," EUR"),"")
A23: =CONCATENATE("Pielikums no ",Saturs!$I$18,"."," līdz ",Saturs!$I$20-1,"."," lapai ir neatņemama šī finanšu pārskata sastāvdaļa.") -> Pielikums no 9. līdz 20. lapai ir neatņemama šī finanšu pārskata sastāvdaļa.
A25: Sabiedrības vārdā finanšu pārskatus apstiprina:
A27: =IF(Info!$B$12="","",Info!$B$12) -> Aivars Pudāns - valdes loceklis
C28: =IF($A$27="","","paraksts") -> paraksts

Sheet PZA(IF)
A1: PEĻŅAS VAI ZAUDĒJUMU APRĒĶINS | F1: Rindas kods VID EDS
B2: (klasificēts pēc izdevumu funkcijas)
D3: 2022 | E3: 2021
D4: =Info!$J$8 -> EUR | E4: =Info!$J$8 -> EUR
A6: 1 | B6: Neto apgrozījums: | D6: =D7 -> 2511565 | E6: =E7 -> 4482049 | F6: 10
B7: no citiem pamatdarbības veidiem | D7: 2511565 | E7: 4482049 | F7: 30
A8: =A6+1 -> 2 | B8: Pārdotās produkcijas ražošanas pašizmaksa, pārdoto preču vai sniegto pakalpojumu iegādes izmaksas | D8: -2414326 | E8: -4231409 | F8: 40
A9: =A8+1 -> 3 | B9: Bruto peļņa vai zaudējumi | D9: =SUM(D6,D8) -> 97239 | E9: =SUM(E6,E8) -> 250640 | F9: 50
A10: =A9+1 -> 4 | B10: Pārdošanas izmaksas | D10: -3222 | E10: -3997 | F10: 60
A11: =A10+1 -> 5 | B11: Administrācijas izmaksas | D11: -101234 | E11: -176675 | F11: 70
A12: =A11+1 -> 6 | B12: Pārējie saimnieciskās darbības ieņēmumi | D12: 321 | E12: 293413 | F12: 80
A13: =A12+1 -> 7 | B13: Pārējās saimnieciskās darbības izmaksas | D13: -13535 | E13: -1904 | F13: 90
A14: 8. | B14: Peļņa vai zaudējumi pirms uzņēmumu ienākuma nodokļa | D14: =SUM(D9,D10,D11,D12,D13,) -> -20431 | E14: =SUM(E9,E10,E11,E12,E13,) -> 361477 | F14: 240
A15: 9. | B15: Uzņēmumu ienākuma nodoklis par pārskata gadu | D15: -25465 | E15: 0 | F15: 250
A16: 10. | B16: Peļņa vai zaudējumi pēc uzņēmumu ienākuma nodokļa aprēķināšanas | D16: =SUM(D14,D15) -> -45896 | E16: =SUM(E14,E15) -> 361477 | F16: 260
A17: 11 | B17: Pārskata gada peļņa vai zaudējumi | D17: =SUM(D16,) -> -45896 | E17: =SUM(E16,) -> 361477 | F17: 290
D18: =IF($D$17<>Pasīvs!$D$8,CONCATENATE("PZA nesakrīt ar bilanci par ",$D$17-Pasīvs!$D$8," EUR"),"") | E18: =IF($E$17<>Pasīvs!$E$8,CONCATENATE("PZA nesakrīt ar bilanci par ",$E$17-Pasīvs!$E$8," EUR"),"")
A19: =CONCATENATE("Pielikums no ",Saturs!$I$18,"."," līdz ",Saturs!$I$20-1,"."," lapai ir neatņemama šī finanšu pārskata sastāvdaļa.") -> Pielikums no 9. līdz 20. lapai ir neatņemama šī finanšu pārskata sastāvdaļa.
A21: Sabiedrības vārdā finanšu pārskatus apstiprina:
A22: =IF(Info!$B$12="","",Info!$B$12) -> Aivars Pudāns - valdes loceklis
C23: =IF($A$22="","","paraksts") -> paraksts

Sheet NP(netiesa)
A1: NAUDAS PLŪSMAS PĀRSKATS | F1: Rindas kods VID EDS
A2: (netieša metode)
D4: 2022 | E4: 2021
D5: =[1]Info!$J$8 -> EUR | E5: =[1]Info!$J$8 -> EUR
A6: I | B6: Pamatdarbības naudas plūsma | F6: 10
A7: 1 | B7: Peļņa vai zaudējumi pirms uzņēmumu ienākuma nodokļa | D7: ='PZA(IF)'!D17 -> -45896 | E7: ='PZA(IF)'!E17 -> 361477 | F7: 20
B8: Korekcijas: | F8: 30
B9: a) pamatlīdzekļu vērtības samazinājuma korekcijas | D9: =P_Aktīvs!H66+P_Aktīvs!H48+P_Aktīvs!H28 -> 214129 | E9: 393966 | F9: 40
B10: b) pamatlīdzekļu izslēgšanas rezultāts | F10: 70
B11: c) ilgtermiņa un īstermiņa finanšu ieguldījumu vērtības samazinājuma korekcijas | F11: 110
A12: =A7+1 -> 2 | B12: Peļņa vai zaudējumi pirms apgrozāmo līdzekļu un īstermiņa kreditoru atlikumu izmaiņu ietekmes korekcijām | D12: =SUM(D9:D11)+D7 -> 168233 | E12: =SUM(E9:E11)+E7 -> 755443 | F12: 130
B13: Korekcijas: | F13: 140
B14: a) debitoru parādu atlikumu pieaugums vai samazinājums | D14: =Aktīvs!E30-Aktīvs!D30 -> -110190 | E14: -75740 | F14: 150
B15: b) krājumu atlikumu pieaugums vai samazinājums | D15: =Aktīvs!E24-Aktīvs!D24 -> -13530 | E15: -39469 | F15: 160
B16: c) piegādātājiem, darbuzņēmējiem un pārējiem kreditoriem maksājamo parādu atlikumu pieaugums vai samazinājums | D16: =Pasīvs!D13+Pasīvs!D20-Pasīvs!E13-Pasīvs!E20+25465 -> 235865 | E16: -280337 | F16: 170
A17: =A12+1 -> 3 | B17: Bruto pamatdarbības naudas plūsma | D17: =SUM(D14:D16)+D12 -> 280378 | E17: =SUM(E14:E16)+E12 -> 359897 | F17: 180
B18: Izdevumi uzņēmumu ienākuma nodokļa maksājumiem | D18: -25465 | F18: 200
A19: =A18+1 -> 1 | B19: Pamatdarbības neto naudas plūsma | D19: =SUM(D17:D18) -> 254913 | E19: =SUM(E17:E18) -> 359897 | F19: 210
A21: II | B21: Ieguldīšanas darbības naudas plūsma | F21: 220
A22: 1. | B22: Pamatlīdzekļu un nemateriālo ieguldījumu iegāde | D22: =-43015 -> -43015 | E22: -310620 | F22: 250
A23: 2. | B23: Ieņēmumi no pamatlīdzekļu un nemateriālo ieguldījumu pārdošanas | E23: 0 | F23: 260
B24: Ieguldīšanas darbības neto naudas plūsma | D24: =SUM(D22:D23) -> -43015 | E24: =SUM(E22:E23) -> -310620 | F24: 310
A26: III | B26: Finansēšanas darbības naudas plūsma | F26: 320
A27: 1. | B27: Izmaksātās dividendes | D27: -180739 | F27: 380
A28: 2 | B28: Saņemtās subsīdijas, dotācijas, dāvinājumi vai ziedojumi
B29: Finansēšanas darbības neto naudas plūsma | D29: =SUM(D27:D28) -> -180739 | E29: =SUM(E27:E27) -> 0 | F29: 390
A31: IV | B31: Ārvalstu valūtu kursu svārstību rezultāts | D31: 0 | E31: 0 | F31: 400
A33: V | B33: Pārskata gada neto naudas plūsma | D33: =D19+D24+D29+D31 -> 31159 | E33: =E19+E24+E29+E31 -> 49277 | F33: 410
A35: VI | B35: Naudas un tās ekvivalentu atlikums pārskata gada sākumā | D35: =E36 -> 1630296 | E35: 1581019 | F35: 420
A36: VII | B36: Naudas un tās ekvivalentu atlikums pārskata gada beigās | D36: =D35+D33 -> 1661455 | E36: =E35+E33 -> 1630296 | F36: 430
A41: =IF([1]Info!$B$15="","",[1]Info!$B$15) -> Vārds Uzvārds, valdes loceklis | D41: Aivars Pudāns
C42: =IF($A$41="","","paraksts") -> paraksts

Sheet P_Aktīvs
A1: 2. | B1: Skaidrojums par bilances posteņiem - Aktīvs
A3: 2.1. | B3: Skaidrojums par ilgtermiņa ieguldījuma posteņiem | J3: 52.panta 1daļa 7.punkts
B4: 2.1.1. Nemateriālie ieguldījumi
H5: Summa
B6: =Aktīvs!B7 -> Koncesijas, patenti, licences, preču zīmes un tamlīdzīgas tiesības | H6: =Info!$J$8 -> EUR
B7: Sākotnējā vērtība - iegādes izmaksas vai ražošanas pašizmaksa:
B8: pārskata gada sākumā | H8: 85
B9: pārskata gada beigās | H9: =H8 -> 85
B10: Pārskata gadā aprēķinātās vērtības samazinājuma (t.sk. nolietojuma) korekcijas | H10: 0
B11: Bilances vērtība: | H11: =IF($H$12<>Aktīvs!$E$7,CONCATENATE("Atlikusī vērtība pārskata gada sākumā nesakrīt ar bilanci par ",$H$12-Aktīvs!$E$7," EUR"),"")
B12: pārskata gada sākumā | H12: =H8 -> 85
B13: pārskata gada beigās | H13: =H9 -> 85
H14: Summa
B15: 2.1.2. Pamatlīdzekļi
H16: Summa
B17: =Aktīvs!B11 -> Nekustamie īpašumi: | H17: =Info!$J$8 -> EUR
B18: Sākotnējā vērtība - iegādes izmaksas vai ražošanas pašizmaksa:
B19: pārskata gada sākumā | H19: 5100847
B20: pārskata gada beigās | H20: =H19+H21+H22+H23 -> 5103647
B21: Vērtības palielinājumi (t.sk.iegāde un pārvietošana no cita bilances posteņa), ieskaitot uzlabojumus pārskata gadā | H21: 2800
B22: Atsavināšana vai likvidācija pārskata gadā
B23: Pārvietošana uz citu bilances posteni pārskata gadā | H23: 0
B25: Uzkrātās vērtības samazinājuma (nolietojuma) korekcijas:
B26: pārskata gada sākumā | H26: 3832038
B27: pārskata gada beigās | H27: =H26+H28 -> 3892256
B28: Pārskata gadā aprēķinātās vērtības samazinājuma (t.sk. nolietojuma) korekcijas | H28: 60218
B29: Uzkrāto vērtības samazinājuma korekciju kopsummas izmaiņas saistībā ar objekta atsavināšanu, likvidāciju vai pārvietošanu uz citu posteni pārskata gadā | H29: 0
B30: Bilances vērtība:
B31: pārskata gada sākumā | H31: =H19-H26 -> 1268809
B32: pārskata gada beigās | H32: =H20-H27 -> 1211391
B34: Papildus sniegtā informācija
H36: Summa
B37: =Aktīvs!B14 -> Tehnoloģiskās iekārtas un ierīces | H37: =Info!$J$8 -> EUR
B38: Sākotnējā vērtība - iegādes izmaksas vai ražošanas pašizmaksa:
B39: pārskata gada sākumā | H39: 4930437
B40: pārskata gada beigās | H40: =H39+H41+H42+H43 -> 4972237
B41: Vērtības palielinājumi (t.sk.iegāde un pārvietošana no cita bilances posteņa), ieskaitot uzlabojumus pārskata gadā | H41: 41800
B42: Atsavināšana vai likvidācija pārskata gadā
B43: Pārvietošana uz citu bilances posteni pārskata gadā | H43: 0
B45: Uzkrātās vērtības samazinājuma (nolietojuma) korekcijas:
...

Sheet P_Pasīvs
A1: 3. | B1: Skaidrojums par bilances posteņiem - Pasīvs
A3: 3.1. | B3: Informācija par akcijām vai daļām
B5: Akciju vai daļu veds | D5: Daļu skaits | E5: Nomināla | F5: Uzskaites vērtība uz:
E6: vērtība | F6: =Info!E19 -> 31.06.2022 | G6: 31.12.2021.
B7: Dalibnieku ieguldījumi | D7: 565 | E7: 865 | F7: 488480 | G7: 485900
A10: 3.3. | B10: Kreditori
B12: 3.3.1. Nākamo periodu ieņēmumi, kuru samaksas termiņš ir ilgāks par 5 gadiem | J12: 52.panta 1daļa 5.punkts
B14: Pārskata gada sākumā, EUR | E14: =Pasīvs!E12 -> 2549597
B15: Pārskata gada beigās, EUR | E15: =Pasīvs!D12 -> 2549597
B16: Izmaiņas, EUR | E16: =E14-E15 -> 0
B19: 3.3.6. Paskaidrojums, ja kādas saistības attiecas uz vairākiem bilances shēmas posteņiem | J19: 16.pants 5.daļa
B20: Tādu nav
